BEGIN:VCALENDAR
VERSION:2.0
PRODID:-//Farmacie Comunali Torino Spa - ECPv4.6.11.1//NONSGML v1.0//EN
CALSCALE:GREGORIAN
METHOD:PUBLISH
X-WR-CALNAME:Farmacie Comunali Torino Spa
X-ORIGINAL-URL:https://www.farmaciecomunalitorino.it
X-WR-CALDESC:Events for Farmacie Comunali Torino Spa
BEGIN:VEVENT
DTSTART;VALUE=DATE:20180309
DTEND;VALUE=DATE:20180310
DTSTAMP:20260421T142808
CREATED:20180309T185252Z
LAST-MODIFIED:20180615T100351Z
UID:11042-1520553600-1520639999@www.farmaciecomunalitorino.it
SUMMARY:Giornata Cosmesi 9-3-2018
DESCRIPTION:presenza della consulente Sig.ra Francesca per consigli di make-up.\nVai alla pagina della Farmacia \n
URL:https://www.farmaciecomunalitorino.it/evento/giornata-cosmesi/
LOCATION:C.so Orbassano 249\, Torino\, TO\, 10126\, Italia
CATEGORIES:Cosmesi
ATTACH;FMTTYPE=image/png:https://www.farmaciecomunalitorino.it/wp-content/uploads/2018/03/Schermata-2018-03-08-alle-15.43.41.png
END:VEVENT
END:VCALENDAR