BEGIN:VCALENDAR
VERSION:2.0
PRODID:-//Farmacie Comunali Torino Spa - ECPv4.6.11.1//NONSGML v1.0//EN
CALSCALE:GREGORIAN
METHOD:PUBLISH
X-WR-CALNAME:Farmacie Comunali Torino Spa
X-ORIGINAL-URL:https://www.farmaciecomunalitorino.it
X-WR-CALDESC:Events for Farmacie Comunali Torino Spa
BEGIN:VEVENT
DTSTART;VALUE=DATE:20220418
DTEND;VALUE=DATE:20220501
DTSTAMP:20260421T144807
CREATED:20220302T083528Z
LAST-MODIFIED:20220302T083544Z
UID:21738-1650240000-1651363199@www.farmaciecomunalitorino.it
SUMMARY:HOLTER PRESSORIO APRILE
DESCRIPTION:HOLTER PRESSORIO dal 18 al 30 aprile farmacia comunale 44 – Via Cibrario 72 – Torino \n
URL:https://www.farmaciecomunalitorino.it/evento/21738/
LOCATION:Via Cibrario 72\, Torino\, TO\, 10144\, Italia
CATEGORIES:Prevenzione Cardiovascolare
ATTACH;FMTTYPE=image/jpeg:https://www.farmaciecomunalitorino.it/wp-content/uploads/2019/12/analisi-lipidomica-cardio-e1642599977990.jpg
END:VEVENT
END:VCALENDAR