BEGIN:VCALENDAR
VERSION:2.0
PRODID:-//Farmacie Comunali Torino Spa - ECPv4.6.11.1//NONSGML v1.0//EN
CALSCALE:GREGORIAN
METHOD:PUBLISH
X-WR-CALNAME:Farmacie Comunali Torino Spa
X-ORIGINAL-URL:https://www.farmaciecomunalitorino.it
X-WR-CALDESC:Events for Farmacie Comunali Torino Spa
BEGIN:VEVENT
DTSTART;TZID=Europe/Rome:20241216T080000
DTEND;TZID=Europe/Rome:20241221T170000
DTSTAMP:20260423T092335
CREATED:20241205T150428Z
LAST-MODIFIED:20241205T150511Z
UID:30592-1734336000-1734800400@www.farmaciecomunalitorino.it
SUMMARY:HOLTER PRESSORIO
DESCRIPTION:HOLTER PRESSORIO dal 16 al 21 Dicembre presso la Farmacia Comunale 29 – Via Orvieto 10/A – Torino \n
URL:https://www.farmaciecomunalitorino.it/evento/30592/
LOCATION:Via Orvieto 10/A\, Torino\, TO\, 10149\, Italia
CATEGORIES:Prevenzione Cardiovascolare
ATTACH;FMTTYPE=image/jpeg:https://www.farmaciecomunalitorino.it/wp-content/uploads/2019/12/analisi-lipidomica-cardio-e1642599977990.jpg
END:VEVENT
END:VCALENDAR