BEGIN:VCALENDAR
VERSION:2.0
PRODID:-//Farmacie Comunali Torino Spa - ECPv4.6.11.1//NONSGML v1.0//EN
CALSCALE:GREGORIAN
METHOD:PUBLISH
X-WR-CALNAME:Farmacie Comunali Torino Spa
X-ORIGINAL-URL:https://www.farmaciecomunalitorino.it
X-WR-CALDESC:Events for Farmacie Comunali Torino Spa
BEGIN:VEVENT
DTSTART;TZID=Europe/Rome:20260413T080000
DTEND;TZID=Europe/Rome:20260509T170000
DTSTAMP:20260423T153458
CREATED:20260414T093813Z
LAST-MODIFIED:20260414T093813Z
UID:34864-1776067200-1778346000@www.farmaciecomunalitorino.it
SUMMARY:ANALISI PELLE E CAPELLI
DESCRIPTION:Lo strumento SoftFx sarà presente presso la Farmacia Comunale 17\, Corso Vittorio Emanuele II\, 182\, dal 13 Aprile al 9 Maggio\nPrenota il tuo appuntamento!\nMail: farmaciacomunale17@fctorinospa.it\nTel: 011 4333311 \n
URL:https://www.farmaciecomunalitorino.it/evento/analisi-pelle-e-capelli-11/
LOCATION:C.so Vittorio Emanuele 182 bis\, Torino\, TO\, 10100\, Italia
CATEGORIES:analisi pelle e capelli
ATTACH;FMTTYPE=image/png:https://www.farmaciecomunalitorino.it/wp-content/uploads/2025/10/tipa-soft.png
END:VEVENT
END:VCALENDAR