BEGIN:VCALENDAR
VERSION:2.0
PRODID:-//Farmacie Comunali Torino Spa - ECPv4.6.11.1//NONSGML v1.0//EN
CALSCALE:GREGORIAN
METHOD:PUBLISH
X-WR-CALNAME:Farmacie Comunali Torino Spa
X-ORIGINAL-URL:https://www.farmaciecomunalitorino.it
X-WR-CALDESC:Events for Farmacie Comunali Torino Spa
BEGIN:VEVENT
DTSTART;VALUE=DATE:20260518
DTEND;VALUE=DATE:20260519
DTSTAMP:20260425T231513
CREATED:20260423T125647Z
LAST-MODIFIED:20260423T125647Z
UID:34913-1779062400-1779148799@www.farmaciecomunalitorino.it
SUMMARY:CONSULENZA COSMESI - 18 MAGGIO
DESCRIPTION:Lunedì 18 Maggio presenza della consulente Francesca per consigli di make-up presso la Farmacia Comunale 28\, Corso Corsica 9\, TO\nMail: farmaciacomunale28@fctorinospa.it\nTel: 011 3170152 \n
URL:https://www.farmaciecomunalitorino.it/evento/consulenza-cosmesi-18-maggio/
LOCATION:C.so Corsica 9\, Torino\, TO\, 10134\, Italia
CATEGORIES:Cosmesi
ATTACH;FMTTYPE=image/jpeg:https://www.farmaciecomunalitorino.it/wp-content/uploads/2021/01/Imm_ADV-Cosmesi-e1642600144267.jpg
END:VEVENT
END:VCALENDAR