BEGIN:VCALENDAR
VERSION:2.0
PRODID:-//Farmacie Comunali Torino Spa - ECPv4.6.11.1//NONSGML v1.0//EN
CALSCALE:GREGORIAN
METHOD:PUBLISH
X-WR-CALNAME:Farmacie Comunali Torino Spa
X-ORIGINAL-URL:https://www.farmaciecomunalitorino.it
X-WR-CALDESC:Events for Farmacie Comunali Torino Spa
BEGIN:VEVENT
DTSTART;VALUE=DATE:20260420
DTEND;VALUE=DATE:20260421
DTSTAMP:20260426T031401
CREATED:20260310T155400Z
LAST-MODIFIED:20260310T155400Z
UID:34622-1776643200-1776729599@www.farmaciecomunalitorino.it
SUMMARY:CONSULENZA COSMESI - 20 APRILE
DESCRIPTION:Lunedì 20 Aprile presenza della consulente Francesca per consigli di make-up presso la Farmacia Comunale 7\, Corso Trapani 150\, TO\nMail: farmaciacomunale07@fctorinospa.it\nTel: 011 3352700 \n
URL:https://www.farmaciecomunalitorino.it/evento/consulenza-cosmesi-20-aprile/
LOCATION:C.so Trapani 150\, Torino\, TO\, 10141\, Italia
CATEGORIES:Cosmesi
ATTACH;FMTTYPE=image/jpeg:https://www.farmaciecomunalitorino.it/wp-content/uploads/2021/01/Imm_ADV-Cosmesi-e1642600144267.jpg
END:VEVENT
END:VCALENDAR