BEGIN:VCALENDAR
VERSION:2.0
PRODID:-//Farmacie Comunali Torino Spa - ECPv4.6.11.1//NONSGML v1.0//EN
CALSCALE:GREGORIAN
METHOD:PUBLISH
X-WR-CALNAME:Farmacie Comunali Torino Spa
X-ORIGINAL-URL:https://www.farmaciecomunalitorino.it
X-WR-CALDESC:Events for Farmacie Comunali Torino Spa
BEGIN:VEVENT
DTSTART;VALUE=DATE:20260521
DTEND;VALUE=DATE:20260522
DTSTAMP:20260425T212639
CREATED:20260423T130456Z
LAST-MODIFIED:20260423T130456Z
UID:34917-1779321600-1779407999@www.farmaciecomunalitorino.it
SUMMARY:CONSULENZA COSMESI - 21 MAGGIO
DESCRIPTION:Giovedì 21 Maggio presenza della consulente Francesca per consigli di make-up presso la Farmacia Comunale 21\, Corso Belgio 151/B\, TO\nMail: farmaciacomunale21@fctorinospa.it\nTel: 011 8980177 \n
URL:https://www.farmaciecomunalitorino.it/evento/consulenza-cosmesi-21-maggio/
LOCATION:C.so Belgio 151/B\, Torino\, TO\, 10100\, Italia
CATEGORIES:Cosmesi
ATTACH;FMTTYPE=image/jpeg:https://www.farmaciecomunalitorino.it/wp-content/uploads/2021/01/Imm_ADV-Cosmesi-e1642600144267.jpg
END:VEVENT
END:VCALENDAR