BEGIN:VCALENDAR
VERSION:2.0
PRODID:-//Farmacie Comunali Torino Spa - ECPv4.6.11.1//NONSGML v1.0//EN
CALSCALE:GREGORIAN
METHOD:PUBLISH
X-WR-CALNAME:Farmacie Comunali Torino Spa
X-ORIGINAL-URL:https://www.farmaciecomunalitorino.it
X-WR-CALDESC:Events for Farmacie Comunali Torino Spa
BEGIN:VEVENT
DTSTART;VALUE=DATE:20260526
DTEND;VALUE=DATE:20260527
DTSTAMP:20260425T212454
CREATED:20260423T133637Z
LAST-MODIFIED:20260423T133637Z
UID:34925-1779753600-1779839999@www.farmaciecomunalitorino.it
SUMMARY:CONSULENZA COSMESI - 26 MAGGIO
DESCRIPTION:Martedì 26 Maggio presenza della consulente Francesca per consigli di make-up presso la Farmacia Comunale 45\, Via Monginevro 27/B\, TO\nMail: farmaciacomunale45@fctorinospa.it\nTel: 011 3852515 \n
URL:https://www.farmaciecomunalitorino.it/evento/consulenza-cosmesi-26-maggio/
LOCATION:Via Monginevro 27/B\, Torino\, TO\, 10138\, Italia
CATEGORIES:Cosmesi
ATTACH;FMTTYPE=image/jpeg:https://www.farmaciecomunalitorino.it/wp-content/uploads/2021/01/Imm_ADV-Cosmesi-e1642600144267.jpg
END:VEVENT
END:VCALENDAR