BEGIN:VCALENDAR
VERSION:2.0
PRODID:-//Farmacie Comunali Torino Spa - ECPv4.6.11.1//NONSGML v1.0//EN
CALSCALE:GREGORIAN
METHOD:PUBLISH
X-WR-CALNAME:Farmacie Comunali Torino Spa
X-ORIGINAL-URL:https://www.farmaciecomunalitorino.it
X-WR-CALDESC:Events for Farmacie Comunali Torino Spa
BEGIN:VEVENT
DTSTART;VALUE=DATE:20260529
DTEND;VALUE=DATE:20260530
DTSTAMP:20260425T211450
CREATED:20260423T134205Z
LAST-MODIFIED:20260423T134205Z
UID:34929-1780012800-1780099199@www.farmaciecomunalitorino.it
SUMMARY:CONSULENZA COSMESI - 29 MAGGIO
DESCRIPTION:Venerdì 29 Maggio presenza della consulente Francesca per consigli di make-up presso la Farmacia Comunale 9\, Corso Sebastopoli 272\, TO\nMail: farmaciacomunale09@fctorinospa.it\nTel: 011 351483 \n
URL:https://www.farmaciecomunalitorino.it/evento/consulenza-cosmesi-29-maggio/
LOCATION:C.so Sebastopoli 272\, Torino\, TO\, 10136\, Italia
CATEGORIES:Cosmesi
ATTACH;FMTTYPE=image/jpeg:https://www.farmaciecomunalitorino.it/wp-content/uploads/2021/01/Imm_ADV-Cosmesi-e1642600144267.jpg
END:VEVENT
END:VCALENDAR