BEGIN:VCALENDAR
VERSION:2.0
PRODID:-//Farmacie Comunali Torino Spa - ECPv4.6.11.1//NONSGML v1.0//EN
CALSCALE:GREGORIAN
METHOD:PUBLISH
X-WR-CALNAME:Farmacie Comunali Torino Spa
X-ORIGINAL-URL:https://www.farmaciecomunalitorino.it
X-WR-CALDESC:Events for Farmacie Comunali Torino Spa
BEGIN:VEVENT
DTSTART;VALUE=DATE:20220207
DTEND;VALUE=DATE:20220213
DTSTAMP:20260420T072025
CREATED:20220113T120903Z
LAST-MODIFIED:20220216T120725Z
UID:21059-1644192000-1644710399@www.farmaciecomunalitorino.it
SUMMARY:ECG
DESCRIPTION:ELETTROCARDIOGRAMMA dal 7 al 12 febbraio presso farmacia comunale 46 – P.zza Bozzolo 11 – Torino \n
URL:https://www.farmaciecomunalitorino.it/evento/ecg-29/
LOCATION:P.za Bozzolo 11\, Torino\, TO\, 10126\, Italia
CATEGORIES:Prevenzione Cardiovascolare
ATTACH;FMTTYPE=image/jpeg:https://www.farmaciecomunalitorino.it/wp-content/uploads/2018/09/farmacie-comunali-torino-prevenzione-cardiovascolare.jpg
END:VEVENT
END:VCALENDAR