BEGIN:VCALENDAR
VERSION:2.0
PRODID:-//Farmacie Comunali Torino Spa - ECPv4.6.11.1//NONSGML v1.0//EN
CALSCALE:GREGORIAN
METHOD:PUBLISH
X-WR-CALNAME:Farmacie Comunali Torino Spa
X-ORIGINAL-URL:https://www.farmaciecomunalitorino.it
X-WR-CALDESC:Events for Farmacie Comunali Torino Spa
BEGIN:VEVENT
DTSTART;TZID=Europe/Rome:20260223T080000
DTEND;TZID=Europe/Rome:20260228T193000
DTSTAMP:20260421T150418
CREATED:20260220T145400Z
LAST-MODIFIED:20260220T153729Z
UID:34412-1771833600-1772307000@www.farmaciecomunalitorino.it
SUMMARY:ELETTROCARDIOGRAMMA
DESCRIPTION:ELETTROCARDIOGRAMMA dal 23 al 28 Febbraio presso le seguenti Farmacie Comunali:\n– Farmacia Comunale 8\, Corso Traiano 22/E\, TO\nMail farmaciacomunale08@fctorinospa.it / Tel. 011 614284\n– Farmacia Comunale 9\, Corso Sebastopoli 272\, TO\nMail farmaciacomunale08@fctorinospa.it / Tel. 011 351483\n– Farmacia Comunale 12\, Corso Vercelli 236\, TO\nMail farmaciacomunale12@fctorinospa.it / Tel. 011 2465215\n– Farmacia Comunale 13\, Via Negarville 8/10\, TO\nMail farmaciacomunale13@fctorinospa.it / Tel. 011 3470309\n– Farmacia Comunale 21\, Corso Belgio 151/B\, TO\nMail farmaciacomunale21@fctorinospa.it / Tel. 011 8980177\n– Farmacia Comunale 38\, Via Vandalino 9/11\, TO\nMail farmaciacomunale38@fctorinospa.it / Tel. 011 725846\n– Farmacia Comunale 3 Chieri\, Strada Cambiano 123\, Chieri (TO)\nMail fcchieri03@fctorinospa.it / Tel. 011 9421143\n– Farmacia Comunale Mappano\, Via Rivarolo 68\, Mappano (TO)\nMail farmaciacomunalemappano@fctorinospa.it / Tel. 011 9968138 \n
URL:https://www.farmaciecomunalitorino.it/evento/elettrocardiogramma-104/
CATEGORIES:Prevenzione Cardiovascolare
ATTACH;FMTTYPE=image/png:https://www.farmaciecomunalitorino.it/wp-content/uploads/2025/06/ecg.png
END:VEVENT
END:VCALENDAR