BEGIN:VCALENDAR
VERSION:2.0
PRODID:-//Farmacie Comunali Torino Spa - ECPv4.6.11.1//NONSGML v1.0//EN
CALSCALE:GREGORIAN
METHOD:PUBLISH
X-WR-CALNAME:Farmacie Comunali Torino Spa
X-ORIGINAL-URL:https://www.farmaciecomunalitorino.it
X-WR-CALDESC:Events for Farmacie Comunali Torino Spa
BEGIN:VEVENT
DTSTART;TZID=Europe/Rome:20260427T080000
DTEND;TZID=Europe/Rome:20260502T170000
DTSTAMP:20260424T183959
CREATED:20260423T091613Z
LAST-MODIFIED:20260423T091613Z
UID:34874-1777276800-1777741200@www.farmaciecomunalitorino.it
SUMMARY:ELETTROCARDIOGRAMMA
DESCRIPTION:ELETTROCARDIOGRAMMA dal 27 Aprile al 2 Maggio presso le seguenti Farmacie Comunali:\n– Farmacia Comunale 9\, Corso Sebastopoli 272\, TO\nMail farmaciacomunale09@fctorinospa.it / Tel. 011 351483\n– Farmacia Comunale 10\, Via A. di Bernezzo 134\, TO\nMail farmaciacomunale10@fctorinospa.it / Tel. 011 725767\n– Farmacia Comunale 12\, Corso Vercelli 236\, TO\nMail farmaciacomunale12@fctorinospa.it / Tel. 011 2465215\n– Farmacia Comunale 15\, Corso Traiano 86\, TO\nMail farmaciacomunale15@fctorinospa.it / Tel. 011 616044\n– Farmacia Comunale 33\, Via Isernia 13/B\, TO\nMail farmaciacomunale33@fctorinospa.it / Tel. 011 7399887\n– Farmacia Comunale 41\, Via degli Abeti 10\, TO\nMail farmaciacomunale41@fctorinospa.it / Tel. 011 2624080\n– Farmacia Comunale 42\, Via XX Settembre 5\, TO\nMail farmaciacomunale42@fctorinospa.it / Tel. 011 543287\n– Farmacia Comunale 1 Chieri\, Via Amendola 6\, Chieri (TO)\nMail fcchieri01@fctorinospa.it / Tel. 011 9422444 \n
URL:https://www.farmaciecomunalitorino.it/evento/elettrocardiogramma-113/
CATEGORIES:Prevenzione Cardiovascolare
ATTACH;FMTTYPE=image/png:https://www.farmaciecomunalitorino.it/wp-content/uploads/2025/06/ecg.png
END:VEVENT
END:VCALENDAR