BEGIN:VCALENDAR
VERSION:2.0
PRODID:-//Farmacie Comunali Torino Spa - ECPv4.6.11.1//NONSGML v1.0//EN
CALSCALE:GREGORIAN
METHOD:PUBLISH
X-WR-CALNAME:Farmacie Comunali Torino Spa
X-ORIGINAL-URL:https://www.farmaciecomunalitorino.it
X-WR-CALDESC:Events for Farmacie Comunali Torino Spa
BEGIN:VEVENT
DTSTART;TZID=Europe/Rome:20250505T080000
DTEND;TZID=Europe/Rome:20250510T170000
DTSTAMP:20260423T040428
CREATED:20250418T091625Z
LAST-MODIFIED:20250418T092046Z
UID:31802-1746432000-1746896400@www.farmaciecomunalitorino.it
SUMMARY:ELETTROCARDIOGRAMMA
DESCRIPTION:ELETTROCARDIOGRAMMA dal 5 al 10 Maggio presso le seguenti Farmacie Comunali:\n– Farmacia Comunale 8 – Corso Traiano 22/E – Torino\n– Farmacia Comunale 10 – Via Asinari di Bernezzo 134 – Torino\n– Farmacia Comunale 17 – Corso Vittorio Emanuele II 182 – Torino\n– Farmacia Comunale 33 – Via Isernia 13/B – Torino\n– Farmacia Comunale 36 – Via Filadelfia 142 – Torino\n– Farmacia Comunale 40 – Via Farinelli 36/9 – Torino\n– Farmacia Comunale 41 – Via degli Abeti 10 – Torino\n– Farmacia Comunale 3 Chieri – Strada Cambiano 123 – Chieri (TO)  \n
URL:https://www.farmaciecomunalitorino.it/evento/elettrocardiogramma-62/
CATEGORIES:Prevenzione Cardiovascolare
ATTACH;FMTTYPE=image/jpeg:https://www.farmaciecomunalitorino.it/wp-content/uploads/2018/09/farmacie-comunali-torino-prevenzione-cardiovascolare.jpg
END:VEVENT
END:VCALENDAR