BEGIN:VCALENDAR
VERSION:2.0
PRODID:-//Farmacie Comunali Torino Spa - ECPv4.6.11.1//NONSGML v1.0//EN
CALSCALE:GREGORIAN
METHOD:PUBLISH
X-WR-CALNAME:Farmacie Comunali Torino Spa
X-ORIGINAL-URL:https://www.farmaciecomunalitorino.it
X-WR-CALDESC:Events for Farmacie Comunali Torino Spa
BEGIN:VEVENT
DTSTART;TZID=Europe/Rome:20250602T080000
DTEND;TZID=Europe/Rome:20250607T170000
DTSTAMP:20260422T135126
CREATED:20250527T144701Z
LAST-MODIFIED:20250527T144701Z
UID:32237-1748851200-1749315600@www.farmaciecomunalitorino.it
SUMMARY:ELETTROCARDIOGRAMMA
DESCRIPTION:ELETTROCARDIOGRAMMA dal 2 al 7 Giugno presso le seguenti Farmacie Comunali:\n– Farmacia Comunale 5 – Via Rieti 55 – Torino\n– Farmacia Comunale 15 – Corso Traiano 86 – Torino\n– Farmacia Comunale 17 – Corso Vittorio Emanuele II 182 – Torino\n– Farmacia Comunale 23 – Via Guido Reni 155/157 – Torino\n– Farmacia Comunale 28 – Corso Corsica 9 – Torino\n– Farmacia Comunale 2 Chieri – Piazza Duomo 2 – Torino\n– Farmacia Comunale Mappano – Via Rivarolo 68 – Mappano (TO) \n
URL:https://www.farmaciecomunalitorino.it/evento/elettrocardiogramma-66/
CATEGORIES:Prevenzione Cardiovascolare
ATTACH;FMTTYPE=image/jpeg:https://www.farmaciecomunalitorino.it/wp-content/uploads/2018/09/farmacie-comunali-torino-prevenzione-cardiovascolare.jpg
END:VEVENT
END:VCALENDAR