BEGIN:VCALENDAR
VERSION:2.0
PRODID:-//Farmacie Comunali Torino Spa - ECPv4.6.11.1//NONSGML v1.0//EN
CALSCALE:GREGORIAN
METHOD:PUBLISH
X-WR-CALNAME:Farmacie Comunali Torino Spa
X-ORIGINAL-URL:https://www.farmaciecomunalitorino.it
X-WR-CALDESC:Events for Farmacie Comunali Torino Spa
BEGIN:VEVENT
DTSTART;VALUE=DATE:20241217
DTEND;VALUE=DATE:20241218
DTSTAMP:20260423T205230
CREATED:20241115T133953Z
LAST-MODIFIED:20241115T133953Z
UID:30516-1734393600-1734479999@www.farmaciecomunalitorino.it
SUMMARY:GIORNATA COSMESI 17 DICEMBRE
DESCRIPTION:Martedì 17 Dicembre presenza della consulente Francesca per consigli di make-up presso la Farmacia Comunale 12 – Corso Vercelli 236 – Torino \n
URL:https://www.farmaciecomunalitorino.it/evento/giornata-cosmesi-17-dicembre-2/
LOCATION:C.so Vercelli 236\, Torino\, TO\, 10155\, Italia
CATEGORIES:Cosmesi
ATTACH;FMTTYPE=image/jpeg:https://www.farmaciecomunalitorino.it/wp-content/uploads/2021/01/Imm_ADV-Cosmesi-e1642600144267.jpg
END:VEVENT
END:VCALENDAR