BEGIN:VCALENDAR
VERSION:2.0
PRODID:-//Farmacie Comunali Torino Spa - ECPv4.6.11.1//NONSGML v1.0//EN
CALSCALE:GREGORIAN
METHOD:PUBLISH
X-WR-CALNAME:Farmacie Comunali Torino Spa
X-ORIGINAL-URL:https://www.farmaciecomunalitorino.it
X-WR-CALDESC:Events for Farmacie Comunali Torino Spa
BEGIN:VEVENT
DTSTART;VALUE=DATE:20240426
DTEND;VALUE=DATE:20240427
DTSTAMP:20260424T123441
CREATED:20240325T141259Z
LAST-MODIFIED:20240325T141259Z
UID:28455-1714089600-1714175999@www.farmaciecomunalitorino.it
SUMMARY:GIORNATA COSMESI 26 APRILE
DESCRIPTION:Venerdì 26 Aprile presenza della consulente Francesca per consigli di make-up presso la Farmacia Comunale 42 – Via XX Settembre 5 – Torino \n
URL:https://www.farmaciecomunalitorino.it/evento/giornata-cosmesi-26-aprile-2/
LOCATION:Via XX Settembre 5\, Torino\, TO\, 10121\, Italia
CATEGORIES:Cosmesi
ATTACH;FMTTYPE=image/jpeg:https://www.farmaciecomunalitorino.it/wp-content/uploads/2021/01/Imm_ADV-Cosmesi-e1642600144267.jpg
END:VEVENT
END:VCALENDAR