BEGIN:VCALENDAR
VERSION:2.0
PRODID:-//Farmacie Comunali Torino Spa - ECPv4.6.11.1//NONSGML v1.0//EN
CALSCALE:GREGORIAN
METHOD:PUBLISH
X-WR-CALNAME:Farmacie Comunali Torino Spa
X-ORIGINAL-URL:https://www.farmaciecomunalitorino.it
X-WR-CALDESC:Events for Farmacie Comunali Torino Spa
BEGIN:VEVENT
DTSTART;VALUE=DATE:20220201
DTEND;VALUE=DATE:20220202
DTSTAMP:20260419T191916
CREATED:20220114T122117Z
LAST-MODIFIED:20220119T140106Z
UID:21114-1643673600-1643759999@www.farmaciecomunalitorino.it
SUMMARY:Giornata cosmesi 1 febbraio
DESCRIPTION:Martedì 1 febbraio presenza della consulente Francesca per consigli di make-up presso la farmacia comunale 7 – C.so Trapani 150 \n
URL:https://www.farmaciecomunalitorino.it/evento/giornata-cosmesi-365/
LOCATION:C.so Trapani 150\, Torino\, TO\, 10141\, Italia
CATEGORIES:Cosmesi
ATTACH;FMTTYPE=image/jpeg:https://www.farmaciecomunalitorino.it/wp-content/uploads/2021/01/Imm_ADV-Cosmesi-e1642600144267.jpg
END:VEVENT
END:VCALENDAR