BEGIN:VCALENDAR
VERSION:2.0
PRODID:-//Farmacie Comunali Torino Spa - ECPv4.6.11.1//NONSGML v1.0//EN
CALSCALE:GREGORIAN
METHOD:PUBLISH
X-WR-CALNAME:Farmacie Comunali Torino Spa
X-ORIGINAL-URL:https://www.farmaciecomunalitorino.it
X-WR-CALDESC:Events for Farmacie Comunali Torino Spa
BEGIN:VEVENT
DTSTART;VALUE=DATE:20220204
DTEND;VALUE=DATE:20220205
DTSTAMP:20260420T030948
CREATED:20220114T125911Z
LAST-MODIFIED:20220119T162721Z
UID:21119-1643932800-1644019199@www.farmaciecomunalitorino.it
SUMMARY:Giornata cosmesi 4 febbraio
DESCRIPTION:Venerdì 4 febbraio presenza della consulente Francesca per consigli di make-up presso la farmacia comunale 44 – Via Cibrario 72 \n
URL:https://www.farmaciecomunalitorino.it/evento/giornata-cosmesi-367/
LOCATION:Via Cibrario 72\, Torino\, TO\, 10144\, Italia
CATEGORIES:Cosmesi
ATTACH;FMTTYPE=image/jpeg:https://www.farmaciecomunalitorino.it/wp-content/uploads/2021/01/Imm_ADV-Cosmesi-e1642600144267.jpg
END:VEVENT
END:VCALENDAR