BEGIN:VCALENDAR
VERSION:2.0
PRODID:-//Farmacie Comunali Torino Spa - ECPv4.6.11.1//NONSGML v1.0//EN
CALSCALE:GREGORIAN
METHOD:PUBLISH
X-WR-CALNAME:Farmacie Comunali Torino Spa
X-ORIGINAL-URL:https://www.farmaciecomunalitorino.it
X-WR-CALDESC:Events for Farmacie Comunali Torino Spa
BEGIN:VEVENT
DTSTART;TZID=Europe/Rome:20241125T080000
DTEND;TZID=Europe/Rome:20241130T170000
DTSTAMP:20260423T132743
CREATED:20241028T134925Z
LAST-MODIFIED:20241028T134925Z
UID:30342-1732521600-1732986000@www.farmaciecomunalitorino.it
SUMMARY:HOLTER CARDIACO
DESCRIPTION:HOLTER CARDIACO dal 25 al 30 Novembre presso la Farmacia Comunale 11 – Piazza Stampalia 7/B – Torino \n
URL:https://www.farmaciecomunalitorino.it/evento/holter-cardiaco-172/
LOCATION:Piazza Stampalia 7/B\, Torino\, TO\, 10148\, Italia
CATEGORIES:Prevenzione Cardiovascolare
ATTACH;FMTTYPE=image/jpeg:https://www.farmaciecomunalitorino.it/wp-content/uploads/2018/04/telemedicina-farmacie-comunali-torino.jpg
END:VEVENT
END:VCALENDAR