BEGIN:VCALENDAR
VERSION:2.0
PRODID:-//Farmacie Comunali Torino Spa - ECPv4.6.11.1//NONSGML v1.0//EN
CALSCALE:GREGORIAN
METHOD:PUBLISH
X-WR-CALNAME:Farmacie Comunali Torino Spa
X-ORIGINAL-URL:https://www.farmaciecomunalitorino.it
X-WR-CALDESC:Events for Farmacie Comunali Torino Spa
BEGIN:VEVENT
DTSTART;TZID=Europe/Rome:20241216T080000
DTEND;TZID=Europe/Rome:20241221T170000
DTSTAMP:20260423T131822
CREATED:20241127T155215Z
LAST-MODIFIED:20241127T155215Z
UID:30571-1734336000-1734800400@www.farmaciecomunalitorino.it
SUMMARY:HOLTER CARDIACO
DESCRIPTION:HOLTER CARDIACO dal 16 al 21 Dicembre presso la Farmacia Comunale 29 – Via Orvieto 10/A – Torino \n
URL:https://www.farmaciecomunalitorino.it/evento/holter-cardiaco-180/
LOCATION:Via Orvieto 10/A\, Torino\, TO\, 10149\, Italia
CATEGORIES:Prevenzione Cardiovascolare
ATTACH;FMTTYPE=image/jpeg:https://www.farmaciecomunalitorino.it/wp-content/uploads/2018/04/telemedicina-farmacie-comunali-torino.jpg
END:VEVENT
END:VCALENDAR