BEGIN:VCALENDAR
VERSION:2.0
PRODID:-//Farmacie Comunali Torino Spa - ECPv4.6.11.1//NONSGML v1.0//EN
CALSCALE:GREGORIAN
METHOD:PUBLISH
X-WR-CALNAME:Farmacie Comunali Torino Spa
X-ORIGINAL-URL:https://www.farmaciecomunalitorino.it
X-WR-CALDESC:Events for Farmacie Comunali Torino Spa
BEGIN:VEVENT
DTSTART;TZID=Europe/Rome:20250217T080000
DTEND;TZID=Europe/Rome:20250222T170000
DTSTAMP:20260423T053434
CREATED:20250116T150852Z
LAST-MODIFIED:20250204T145207Z
UID:30959-1739779200-1740243600@www.farmaciecomunalitorino.it
SUMMARY:HOLTER CARDIACO
DESCRIPTION:HOLTER CARDIACO dal 17 al 22 Febbraio presso la Farmacia Comunale 36 – Via Filadelfia 142 – Torino \nMail: farmaciacomunale36@fctorinospa.it\nTel: 011 321619 \n
URL:https://www.farmaciecomunalitorino.it/evento/holter-cardiaco-200/
LOCATION:Via Filadelfia 142\, Torino\, TO\, 10137\, Italia
CATEGORIES:Prevenzione Cardiovascolare
ATTACH;FMTTYPE=image/jpeg:https://www.farmaciecomunalitorino.it/wp-content/uploads/2018/04/telemedicina-farmacie-comunali-torino.jpg
END:VEVENT
END:VCALENDAR