BEGIN:VCALENDAR
VERSION:2.0
PRODID:-//Farmacie Comunali Torino Spa - ECPv4.6.11.1//NONSGML v1.0//EN
CALSCALE:GREGORIAN
METHOD:PUBLISH
X-WR-CALNAME:Farmacie Comunali Torino Spa
X-ORIGINAL-URL:https://www.farmaciecomunalitorino.it
X-WR-CALDESC:Events for Farmacie Comunali Torino Spa
BEGIN:VEVENT
DTSTART;TZID=Europe/Rome:20250602T080000
DTEND;TZID=Europe/Rome:20250607T170000
DTSTAMP:20260422T102042
CREATED:20250528T142747Z
LAST-MODIFIED:20250528T142747Z
UID:32246-1748851200-1749315600@www.farmaciecomunalitorino.it
SUMMARY:HOLTER CARDIACO
DESCRIPTION:HOLTER CARDIACO dal 2 al 7 Giugno presso la Farmacia Comunale 11 – Piazza Stampalia 7/B – Torino \nMail: farmaciacomunale11@fctorinospa.it\nTel: 011 2262953 \n
URL:https://www.farmaciecomunalitorino.it/evento/holter-cardiaco-242/
LOCATION:Piazza Stampalia 7/B\, Torino\, TO\, 10148\, Italia
CATEGORIES:Prevenzione Cardiovascolare
ATTACH;FMTTYPE=image/jpeg:https://www.farmaciecomunalitorino.it/wp-content/uploads/2018/04/telemedicina-farmacie-comunali-torino.jpg
END:VEVENT
END:VCALENDAR