BEGIN:VCALENDAR
VERSION:2.0
PRODID:-//Farmacie Comunali Torino Spa - ECPv4.6.11.1//NONSGML v1.0//EN
CALSCALE:GREGORIAN
METHOD:PUBLISH
X-WR-CALNAME:Farmacie Comunali Torino Spa
X-ORIGINAL-URL:https://www.farmaciecomunalitorino.it
X-WR-CALDESC:Events for Farmacie Comunali Torino Spa
BEGIN:VEVENT
DTSTART;TZID=Europe/Rome:20250609T080000
DTEND;TZID=Europe/Rome:20250614T170000
DTSTAMP:20260422T162038
CREATED:20250528T143449Z
LAST-MODIFIED:20250528T143449Z
UID:32252-1749456000-1749920400@www.farmaciecomunalitorino.it
SUMMARY:HOLTER CARDIACO
DESCRIPTION:HOLTER CARDIACO dal 9 al 14 Giugno presso la Farmacia Comunale 23 – Via Guido Reni 155/157 – Torino \nMail: farmaciacomunale23@fctorinospa.it\nTel: 011 720605 \n
URL:https://www.farmaciecomunalitorino.it/evento/holter-cardiaco-245/
LOCATION:Via Guido Reni 155 – 157\, Torino\, TO\, 10137\, Italia
CATEGORIES:Prevenzione Cardiovascolare
ATTACH;FMTTYPE=image/jpeg:https://www.farmaciecomunalitorino.it/wp-content/uploads/2018/04/telemedicina-farmacie-comunali-torino.jpg
END:VEVENT
END:VCALENDAR