BEGIN:VCALENDAR
VERSION:2.0
PRODID:-//Farmacie Comunali Torino Spa - ECPv4.6.11.1//NONSGML v1.0//EN
CALSCALE:GREGORIAN
METHOD:PUBLISH
X-WR-CALNAME:Farmacie Comunali Torino Spa
X-ORIGINAL-URL:https://www.farmaciecomunalitorino.it
X-WR-CALDESC:Events for Farmacie Comunali Torino Spa
BEGIN:VEVENT
DTSTART;TZID=Europe/Rome:20250616T080000
DTEND;TZID=Europe/Rome:20250621T170000
DTSTAMP:20260422T162710
CREATED:20250529T082037Z
LAST-MODIFIED:20250618T095436Z
UID:32260-1750060800-1750525200@www.farmaciecomunalitorino.it
SUMMARY:HOLTER CARDIACO
DESCRIPTION:HOLTER CARDIACO dal 16 al 21 Giugno presso la Farmacia Comunale 40 – Via Farinelli 36/9 – Torino \nMail: farmaciacomunale40@fctorinospa.it\nTel: 011 3488296 \n
URL:https://www.farmaciecomunalitorino.it/evento/holter-cardiaco-249/
LOCATION:Via Farinelli 36/9\, Torino\, TO\, 10135\, Italia
CATEGORIES:Prevenzione Cardiovascolare
ATTACH;FMTTYPE=image/png:https://www.farmaciecomunalitorino.it/wp-content/uploads/2025/06/holter-cardiaco.png
END:VEVENT
END:VCALENDAR