BEGIN:VCALENDAR
VERSION:2.0
PRODID:-//Farmacie Comunali Torino Spa - ECPv4.6.11.1//NONSGML v1.0//EN
CALSCALE:GREGORIAN
METHOD:PUBLISH
X-WR-CALNAME:Farmacie Comunali Torino Spa
X-ORIGINAL-URL:https://www.farmaciecomunalitorino.it
X-WR-CALDESC:Events for Farmacie Comunali Torino Spa
BEGIN:VEVENT
DTSTART;TZID=Europe/Rome:20230605T080000
DTEND;TZID=Europe/Rome:20230610T170000
DTSTAMP:20260420T025937
CREATED:20230427T100628Z
LAST-MODIFIED:20230427T100628Z
UID:25286-1685952000-1686416400@www.farmaciecomunalitorino.it
SUMMARY:HOLTER CARDIACO GIUGNO
DESCRIPTION:HOLTER CARDIACO dal 5 al 10 Giugno presso la farmacia comunale 40 –  Via Farinelli 36/9  – Torino \n
URL:https://www.farmaciecomunalitorino.it/evento/holter-cardiaco-giugno-12/
LOCATION:Via Farinelli 36/9\, Torino\, TO\, 10135\, Italia
CATEGORIES:Prevenzione Cardiovascolare
ATTACH;FMTTYPE=image/jpeg:https://www.farmaciecomunalitorino.it/wp-content/uploads/2018/04/telemedicina-farmacie-comunali-torino.jpg
END:VEVENT
END:VCALENDAR