BEGIN:VCALENDAR
VERSION:2.0
PRODID:-//Farmacie Comunali Torino Spa - ECPv4.6.11.1//NONSGML v1.0//EN
CALSCALE:GREGORIAN
METHOD:PUBLISH
X-WR-CALNAME:Farmacie Comunali Torino Spa
X-ORIGINAL-URL:https://www.farmaciecomunalitorino.it
X-WR-CALDESC:Events for Farmacie Comunali Torino Spa
BEGIN:VEVENT
DTSTART;VALUE=DATE:20221010
DTEND;VALUE=DATE:20221016
DTSTAMP:20260419T215337
CREATED:20220616T125217Z
LAST-MODIFIED:20220616T125217Z
UID:22997-1665360000-1665878399@www.farmaciecomunalitorino.it
SUMMARY:HOLTER CARDIACO OTTOBRE
DESCRIPTION:HOLTER CARDIACO dal 10 al 15 ottobre presso\nfarmacia comunale 45– Via Monginevro 27/b \n
URL:https://www.farmaciecomunalitorino.it/evento/holter-cardiaco-ottobre-5/
LOCATION:Via Monginevro 27/B\, Torino\, TO\, 10138\, Italia
CATEGORIES:Prevenzione Cardiovascolare
ATTACH;FMTTYPE=image/jpeg:https://www.farmaciecomunalitorino.it/wp-content/uploads/2018/04/telemedicina-farmacie-comunali-torino.jpg
END:VEVENT
END:VCALENDAR