BEGIN:VCALENDAR
VERSION:2.0
PRODID:-//Farmacie Comunali Torino Spa - ECPv4.6.11.1//NONSGML v1.0//EN
CALSCALE:GREGORIAN
METHOD:PUBLISH
X-WR-CALNAME:Farmacie Comunali Torino Spa
X-ORIGINAL-URL:https://www.farmaciecomunalitorino.it
X-WR-CALDESC:Events for Farmacie Comunali Torino Spa
BEGIN:VEVENT
DTSTART;TZID=Europe/Rome:20250505T080000
DTEND;TZID=Europe/Rome:20250510T170000
DTSTAMP:20260422T132548
CREATED:20250429T085307Z
LAST-MODIFIED:20250429T085307Z
UID:31843-1746432000-1746896400@www.farmaciecomunalitorino.it
SUMMARY:HOLTER PRESSORIO
DESCRIPTION:HOLTER PRESSORIO dal 5 al 10 Maggio presso la Farmacia Comunale 21 – Corso Belgio 151/B – Torino \nMail: farmaciacomunale21@fctorinospa.it\nTel: 011 8980177 \n
URL:https://www.farmaciecomunalitorino.it/evento/holter-pressorio-161/
LOCATION:C.so Belgio 151/B\, Torino\, TO\, 10100\, Italia
CATEGORIES:Prevenzione Cardiovascolare
ATTACH;FMTTYPE=image/jpeg:https://www.farmaciecomunalitorino.it/wp-content/uploads/2019/12/analisi-lipidomica-cardio-e1642599977990.jpg
END:VEVENT
END:VCALENDAR