BEGIN:VCALENDAR
VERSION:2.0
PRODID:-//Farmacie Comunali Torino Spa - ECPv4.6.11.1//NONSGML v1.0//EN
CALSCALE:GREGORIAN
METHOD:PUBLISH
X-WR-CALNAME:Farmacie Comunali Torino Spa
X-ORIGINAL-URL:https://www.farmaciecomunalitorino.it
X-WR-CALDESC:Events for Farmacie Comunali Torino Spa
BEGIN:VEVENT
DTSTART;TZID=Europe/Rome:20250609T080000
DTEND;TZID=Europe/Rome:20250614T170000
DTSTAMP:20260422T094701
CREATED:20250603T132330Z
LAST-MODIFIED:20250603T132330Z
UID:32278-1749456000-1749920400@www.farmaciecomunalitorino.it
SUMMARY:HOLTER PRESSORIO
DESCRIPTION:HOLTER PRESSORIO dal 9 al 14 Giugno presso la Farmacia Comunale 23 – Via Guido Reni 155/157 – Torino \nMail: farmaciacomunale23@fctorinospa.it\nTel: 011 307573 \n
URL:https://www.farmaciecomunalitorino.it/evento/holter-pressorio-172/
LOCATION:Via Guido Reni 155 – 157\, Torino\, TO\, 10137\, Italia
CATEGORIES:Prevenzione Cardiovascolare
ATTACH;FMTTYPE=image/jpeg:https://www.farmaciecomunalitorino.it/wp-content/uploads/2019/12/analisi-lipidomica-cardio-e1642599977990.jpg
END:VEVENT
END:VCALENDAR