BEGIN:VCALENDAR
VERSION:2.0
PRODID:-//Farmacie Comunali Torino Spa - ECPv4.6.11.1//NONSGML v1.0//EN
CALSCALE:GREGORIAN
METHOD:PUBLISH
X-WR-CALNAME:Farmacie Comunali Torino Spa
X-ORIGINAL-URL:https://www.farmaciecomunalitorino.it
X-WR-CALDESC:Events for Farmacie Comunali Torino Spa
BEGIN:VEVENT
DTSTART;TZID=Europe/Rome:20241216T080000
DTEND;TZID=Europe/Rome:20241221T170000
DTSTAMP:20260423T170514
CREATED:20241205T154845Z
LAST-MODIFIED:20241205T154845Z
UID:30613-1734336000-1734800400@www.farmaciecomunalitorino.it
SUMMARY:PRESSIONE OCULARE
DESCRIPTION:Dal 16 al 21 Dicembre presso la Farmacia Comunale 1\, in Corso Orbassano 249\, potrai effettuare la misurazione della pressione intraoculare mediante tonometro\, una tecnica minimamente invasiva\, non pericolosa\, indolore\, adatta a tutti e\, soprattutto\, utile per la prevenzione del glaucoma.\nServe infatti a verificare le variazioni dalla normalità della pressione interna dell’occhio\, che può aumentare o diminuire in rapporto a patologie\, traumi o interventi oftalmici.\nPrenota il tuo appuntamento! \n
URL:https://www.farmaciecomunalitorino.it/evento/pressione-oculare-80/
LOCATION:C.so Orbassano 249\, Torino\, TO\, 10126\, Italia
CATEGORIES:Salute degli occhi
ATTACH;FMTTYPE=image/jpeg:https://www.farmaciecomunalitorino.it/wp-content/uploads/2018/09/farmacie-comunali-torino-salute-occhi.jpg
END:VEVENT
END:VCALENDAR