BEGIN:VCALENDAR
VERSION:2.0
PRODID:-//Farmacie Comunali Torino Spa - ECPv4.6.11.1//NONSGML v1.0//EN
CALSCALE:GREGORIAN
METHOD:PUBLISH
X-WR-CALNAME:Farmacie Comunali Torino Spa
X-ORIGINAL-URL:https://www.farmaciecomunalitorino.it
X-WR-CALDESC:Events for Farmacie Comunali Torino Spa
BEGIN:VEVENT
DTSTART;VALUE=DATE:20221010
DTEND;VALUE=DATE:20221016
DTSTAMP:20260419T182108
CREATED:20220613T125111Z
LAST-MODIFIED:20220613T125111Z
UID:22957-1665360000-1665878399@www.farmaciecomunalitorino.it
SUMMARY:Pressione oculare - Ottobre
DESCRIPTION:Dal 10 al 15 ottobre presso la farmacia comunale 35  potrai effettuare la misurazione della pressione intraoculare mediante tonometro\, una tecnica minimamente invasiva\, non pericolosa\, non dolorosa\, adatta a tutti e\, soprattutto\, utile per la prevenzione del glaucoma.\nServe infatti a verificare le variazioni dalla normalità della pressione interna dell’occhio\, che può aumentare o diminuire in rapporto a patologie\, traumi o interventi oftalmici.\nPrenota il tuo appuntamento! \n
URL:https://www.farmaciecomunalitorino.it/evento/pressione-oculare-ottobre-2/
LOCATION:Via Cimabue 6\, Torino\, TO\, 10137\, Italia
CATEGORIES:Salute degli occhi
ATTACH;FMTTYPE=image/jpeg:https://www.farmaciecomunalitorino.it/wp-content/uploads/2018/09/farmacie-comunali-torino-salute-occhi.jpg
END:VEVENT
END:VCALENDAR