BEGIN:VCALENDAR
VERSION:2.0
PRODID:-//Farmacie Comunali Torino Spa - ECPv4.6.11.1//NONSGML v1.0//EN
CALSCALE:GREGORIAN
METHOD:PUBLISH
X-WR-CALNAME:Farmacie Comunali Torino Spa
X-ORIGINAL-URL:https://www.farmaciecomunalitorino.it
X-WR-CALDESC:Events for Farmacie Comunali Torino Spa
BEGIN:VEVENT
DTSTART;TZID=Europe/Rome:20230710T080000
DTEND;TZID=Europe/Rome:20230711T170000
DTSTAMP:20260419T130640
CREATED:20230607T100025Z
LAST-MODIFIED:20230609T094522Z
UID:25716-1688976000-1689094800@www.farmaciecomunalitorino.it
SUMMARY:TELEDERMATOLOGIA LUGLIO
DESCRIPTION:TELEDERMATOLOGIA Il 10 e l’11 luglio presso la Farmacia Comunale 8 – Corso Traiano 22/E – Torino \n
URL:https://www.farmaciecomunalitorino.it/evento/teledermatologia-luglio-9/
LOCATION:C.so Traiano 22/E\, Torino\, TO\, 10135\, Italia
CATEGORIES:Teledermatologia
ATTACH;FMTTYPE=image/jpeg:https://www.farmaciecomunalitorino.it/wp-content/uploads/2018/09/farmacie-comunali-torino-teledermatologia.jpg
END:VEVENT
END:VCALENDAR